BEGIN:VCALENDAR
VERSION:2.0
PRODID:-//Oak Ridge Sportsman&#039;s Club - ECPv6.15.20//NONSGML v1.0//EN
CALSCALE:GREGORIAN
METHOD:PUBLISH
X-ORIGINAL-URL:https://oakridgeoutdoors.org
X-WR-CALDESC:Events for Oak Ridge Sportsman&#039;s Club
REFRESH-INTERVAL;VALUE=DURATION:PT1H
X-Robots-Tag:noindex
X-PUBLISHED-TTL:PT1H
BEGIN:VTIMEZONE
TZID:America/Chicago
BEGIN:DAYLIGHT
TZOFFSETFROM:-0600
TZOFFSETTO:-0500
TZNAME:CDT
DTSTART:20230312T080000
END:DAYLIGHT
BEGIN:STANDARD
TZOFFSETFROM:-0500
TZOFFSETTO:-0600
TZNAME:CST
DTSTART:20231105T070000
END:STANDARD
BEGIN:DAYLIGHT
TZOFFSETFROM:-0600
TZOFFSETTO:-0500
TZNAME:CDT
DTSTART:20240310T080000
END:DAYLIGHT
BEGIN:STANDARD
TZOFFSETFROM:-0500
TZOFFSETTO:-0600
TZNAME:CST
DTSTART:20241103T070000
END:STANDARD
BEGIN:DAYLIGHT
TZOFFSETFROM:-0600
TZOFFSETTO:-0500
TZNAME:CDT
DTSTART:20250309T080000
END:DAYLIGHT
BEGIN:STANDARD
TZOFFSETFROM:-0500
TZOFFSETTO:-0600
TZNAME:CST
DTSTART:20251102T070000
END:STANDARD
END:VTIMEZONE
BEGIN:VEVENT
DTSTART;TZID=America/Chicago:20240605T083000
DTEND;TZID=America/Chicago:20240605T150000
DTSTAMP:20260422T181821
CREATED:20240521T175148Z
LAST-MODIFIED:20240521T175148Z
UID:10000005-1717576200-1717599600@oakridgeoutdoors.org
SUMMARY:Scouting Clays Classic
DESCRIPTION:Click the link for pricing\, event schedule\, and registration.
URL:https://oakridgeoutdoors.org/event/scouting-clays-classic/
LOCATION:Oak Ridge Sportsman Club\, 13001 Weishaupt Rd\, Mackinaw\, IL\, 61755\, United States
END:VEVENT
BEGIN:VEVENT
DTSTART;VALUE=DATE:20240622
DTEND;VALUE=DATE:20240623
DTSTAMP:20260422T181821
CREATED:20240219T230412Z
LAST-MODIFIED:20240518T133556Z
UID:10000001-1719014400-1719100799@oakridgeoutdoors.org
SUMMARY:13th Annual Sporting Clay Shoot to Benefit Central Illinois Riding Therapy
DESCRIPTION:
URL:https://oakridgeoutdoors.org/event/test-event-1/
LOCATION:Oak Ridge Sportsman Club\, 13001 Weishaupt Rd\, Mackinaw\, IL\, 61755\, United States
END:VEVENT
END:VCALENDAR