BEGIN:VCALENDAR
VERSION:2.0
PRODID:-//Oak Ridge Sportsman&#039;s Club - ECPv6.15.20//NONSGML v1.0//EN
CALSCALE:GREGORIAN
METHOD:PUBLISH
X-WR-CALNAME:Oak Ridge Sportsman&#039;s Club
X-ORIGINAL-URL:https://oakridgeoutdoors.org
X-WR-CALDESC:Events for Oak Ridge Sportsman&#039;s Club
REFRESH-INTERVAL;VALUE=DURATION:PT1H
X-Robots-Tag:noindex
X-PUBLISHED-TTL:PT1H
BEGIN:VTIMEZONE
TZID:America/Chicago
BEGIN:DAYLIGHT
TZOFFSETFROM:-0600
TZOFFSETTO:-0500
TZNAME:CDT
DTSTART:20250309T080000
END:DAYLIGHT
BEGIN:STANDARD
TZOFFSETFROM:-0500
TZOFFSETTO:-0600
TZNAME:CST
DTSTART:20251102T070000
END:STANDARD
BEGIN:DAYLIGHT
TZOFFSETFROM:-0600
TZOFFSETTO:-0500
TZNAME:CDT
DTSTART:20260308T080000
END:DAYLIGHT
BEGIN:STANDARD
TZOFFSETFROM:-0500
TZOFFSETTO:-0600
TZNAME:CST
DTSTART:20261101T070000
END:STANDARD
BEGIN:DAYLIGHT
TZOFFSETFROM:-0600
TZOFFSETTO:-0500
TZNAME:CDT
DTSTART:20270314T080000
END:DAYLIGHT
BEGIN:STANDARD
TZOFFSETFROM:-0500
TZOFFSETTO:-0600
TZNAME:CST
DTSTART:20271107T070000
END:STANDARD
END:VTIMEZONE
BEGIN:VEVENT
DTSTART;VALUE=DATE:20261010
DTEND;VALUE=DATE:20261012
DTSTAMP:20260419T214157
CREATED:20260401T205157Z
LAST-MODIFIED:20260413T110347Z
UID:10000056-1791590400-1791763199@oakridgeoutdoors.org
SUMMARY:Hunters' Wingshooting
DESCRIPTION:SATURDAY OR SUNDAY\, OCTOBER 10 OR 11\, 2026 \nMorning or Afternoon Sessions Available \nAt: Oak Ridge Sportsman’s Club 13001 Weishaupt Road1 Mackinaw1 IL 61755 \nSponsored by Illinois DNR and Illinois Conservation Foundation \nRegistration at: \nhttps://dnr.illinois.gov/recreation/wingshooting.html
URL:https://oakridgeoutdoors.org/event/hunters-wingshooting/
LOCATION:Oak Ridge Sportsman Club\, 13001 Weishaupt Rd\, Mackinaw\, IL\, 61755\, United States
END:VEVENT
END:VCALENDAR