BEGIN:VCALENDAR
VERSION:2.0
PRODID:-//Oak Ridge Sportsman&#039;s Club - ECPv6.15.20//NONSGML v1.0//EN
CALSCALE:GREGORIAN
METHOD:PUBLISH
X-WR-CALNAME:Oak Ridge Sportsman&#039;s Club
X-ORIGINAL-URL:https://oakridgeoutdoors.org
X-WR-CALDESC:Events for Oak Ridge Sportsman&#039;s Club
REFRESH-INTERVAL;VALUE=DURATION:PT1H
X-Robots-Tag:noindex
X-PUBLISHED-TTL:PT1H
BEGIN:VTIMEZONE
TZID:America/Chicago
BEGIN:DAYLIGHT
TZOFFSETFROM:-0600
TZOFFSETTO:-0500
TZNAME:CDT
DTSTART:20230312T080000
END:DAYLIGHT
BEGIN:STANDARD
TZOFFSETFROM:-0500
TZOFFSETTO:-0600
TZNAME:CST
DTSTART:20231105T070000
END:STANDARD
BEGIN:DAYLIGHT
TZOFFSETFROM:-0600
TZOFFSETTO:-0500
TZNAME:CDT
DTSTART:20240310T080000
END:DAYLIGHT
BEGIN:STANDARD
TZOFFSETFROM:-0500
TZOFFSETTO:-0600
TZNAME:CST
DTSTART:20241103T070000
END:STANDARD
BEGIN:DAYLIGHT
TZOFFSETFROM:-0600
TZOFFSETTO:-0500
TZNAME:CDT
DTSTART:20250309T080000
END:DAYLIGHT
BEGIN:STANDARD
TZOFFSETFROM:-0500
TZOFFSETTO:-0600
TZNAME:CST
DTSTART:20251102T070000
END:STANDARD
END:VTIMEZONE
BEGIN:VEVENT
DTSTART;TZID=America/Chicago:20241017T140000
DTEND;TZID=America/Chicago:20241017T183000
DTSTAMP:20260422T130132
CREATED:20240922T212720Z
LAST-MODIFIED:20240922T212720Z
UID:10000010-1729173600-1729189800@oakridgeoutdoors.org
SUMMARY:Men's Ministry's Clay Shoot hosted by Northwoods Community Church
DESCRIPTION:You won’t want to miss out on the first annual Men’s Ministry’s Clay Shoot hosted by Northwoods Community Church! Contact Joe or Stan\, whose info can be found on the flyer\, to register your team!
URL:https://oakridgeoutdoors.org/event/mens-ministrys-clay-shoot-hosted-by-northwoods-community-church/
LOCATION:Oak Ridge Sportsman Club\, 13001 Weishaupt Rd\, Mackinaw\, IL\, 61755\, United States
END:VEVENT
END:VCALENDAR