BEGIN:VCALENDAR
VERSION:2.0
PRODID:-//Oak Ridge Sportsman&#039;s Club - ECPv6.15.20//NONSGML v1.0//EN
CALSCALE:GREGORIAN
METHOD:PUBLISH
X-ORIGINAL-URL:https://oakridgeoutdoors.org
X-WR-CALDESC:Events for Oak Ridge Sportsman&#039;s Club
REFRESH-INTERVAL;VALUE=DURATION:PT1H
X-Robots-Tag:noindex
X-PUBLISHED-TTL:PT1H
BEGIN:VTIMEZONE
TZID:America/Chicago
BEGIN:DAYLIGHT
TZOFFSETFROM:-0600
TZOFFSETTO:-0500
TZNAME:CDT
DTSTART:20230312T080000
END:DAYLIGHT
BEGIN:STANDARD
TZOFFSETFROM:-0500
TZOFFSETTO:-0600
TZNAME:CST
DTSTART:20231105T070000
END:STANDARD
BEGIN:DAYLIGHT
TZOFFSETFROM:-0600
TZOFFSETTO:-0500
TZNAME:CDT
DTSTART:20240310T080000
END:DAYLIGHT
BEGIN:STANDARD
TZOFFSETFROM:-0500
TZOFFSETTO:-0600
TZNAME:CST
DTSTART:20241103T070000
END:STANDARD
BEGIN:DAYLIGHT
TZOFFSETFROM:-0600
TZOFFSETTO:-0500
TZNAME:CDT
DTSTART:20250309T080000
END:DAYLIGHT
BEGIN:STANDARD
TZOFFSETFROM:-0500
TZOFFSETTO:-0600
TZNAME:CST
DTSTART:20251102T070000
END:STANDARD
END:VTIMEZONE
BEGIN:VEVENT
DTSTART;TZID=America/Chicago:20240928T090000
DTEND;TZID=America/Chicago:20240928T130000
DTSTAMP:20260422T144227
CREATED:20240823T181052Z
LAST-MODIFIED:20240823T181052Z
UID:10000009-1727514000-1727528400@oakridgeoutdoors.org
SUMMARY:Shooting Out Pancreatic Cancer
DESCRIPTION:Save and print off this flyer to register! Registrations are due by September 21st\, 2024.
URL:https://oakridgeoutdoors.org/event/shooting-out-pancreatic-cancer/
LOCATION:Oak Ridge Sportsman Club\, 13001 Weishaupt Rd\, Mackinaw\, IL\, 61755\, United States
END:VEVENT
END:VCALENDAR